BEGIN:VCALENDAR
VERSION:2.0
PRODID:-//wp-events-plugin.com//7.2.3.1//EN
TZID:America/New_York
X-WR-TIMEZONE:America/New_York
BEGIN:VEVENT
UID:63@parentchildpsychology.com
DTSTART:20240921T113000Z
DTEND:20240921T124500Z
DTSTAMP:20240729T143430Z
URL:https://parentchildpsychology.com/events/adhd-understanding-the-sympto
 ms-and-exploring-the-underlying-feelings-2/
SUMMARY:ADHD. Understanding the symptoms and exploring the underlying feeli
 ngs.
DESCRIPTION:In this meeting\, we are going to talk about hyperactivity and 
 luck of concentration as expressions of intense underlying feelings.
ATTACH;FMTTYPE=image/jpeg:https://parentchildpsychology.com/wp-content/upl
 oads/2024/02/web_img_25_10_2022_17_26_15.jpg
CATEGORIES:Psychology Educational Class
LOCATION:https://on.zoom.us/h/ilianapantoleon/adhd._understanding_and_explo
 ring_the_symptoms._0921241130/frE9fGO_SbuWPwTtGgLnAw
END:VEVENT
END:VCALENDAR