BEGIN:VCALENDAR
VERSION:2.0
PRODID:-//wp-events-plugin.com//7.2.3.1//EN
TZID:America/New_York
X-WR-TIMEZONE:America/New_York
BEGIN:VEVENT
UID:36@parentchildpsychology.com
DTSTART:20240309T113000Z
DTEND:20240309T124500Z
DTSTAMP:20240214T213145Z
URL:https://parentchildpsychology.com/events/adhd-understanding-the-sympto
 ms-and-exploring-the-underlying-feelings/
SUMMARY:ADHD. Understanding the symptoms and exploring the underlying feeli
 ngs.
DESCRIPTION:In this meeting\, we are going to talk about hyperactivity and 
 luck of concentration as expressions of intense underlying feelings.
ATTACH;FMTTYPE=image/jpeg:https://parentchildpsychology.com/wp-content/upl
 oads/2024/02/web_img_25_10_2022_17_26_15.jpg
CATEGORIES:Psychology Educational Class
LOCATION:https://on.zoom.us/h/ilianapantoleon/adhd_0309241130/9YwcWl8iRM-x6
 IIipkDnUg
END:VEVENT
END:VCALENDAR