BEGIN:VCALENDAR
VERSION:2.0
PRODID:-//wp-events-plugin.com//7.2.3.1//EN
TZID:America/New_York
X-WR-TIMEZONE:America/New_York
BEGIN:VEVENT
UID:54@parentchildpsychology.com
DTSTART:20240316T113000Z
DTEND:20240316T121500Z
DTSTAMP:20240313T022640Z
URL:https://parentchildpsychology.com/events/adhd-understanding-the-sympto
 ms/
SUMMARY:ADHD. Understanding the symptoms.
DESCRIPTION:In this meeting\, we are going to explore hyperactivity and att
 ention deficit as expressions of underlying intense feelings.
ATTACH;FMTTYPE=image/jpeg:https://parentchildpsychology.com/wp-content/upl
 oads/2024/02/web_img_25_10_2022_17_26_15.jpg
CATEGORIES:Psychology Educational Class
LOCATION:https://on.zoom.us/h/ilianapantoleon/adhd_0316241130/RaQvr5aHRK28S
 2zcoDp4iw
END:VEVENT
END:VCALENDAR