BEGIN:VCALENDAR
VERSION:2.0
PRODID:-//wp-events-plugin.com//7.2.3.1//EN
TZID:America/New_York
X-WR-TIMEZONE:America/New_York
BEGIN:VEVENT
UID:34@parentchildpsychology.com
DTSTART:20240301T170000Z
DTEND:20240301T181500Z
DTSTAMP:20240227T011445Z
URL:https://parentchildpsychology.com/events/co-sleeping-myths-and-truths/
SUMMARY:Co-sleeping. Myths and truths!
DESCRIPTION:In this meeting\, we are going to talk about the reasons why ad
 ults shouldn't share a bed with kids\, but also\, how to do it in proper w
 ay when needed.
ATTACH;FMTTYPE=image/jpeg:https://parentchildpsychology.com/wp-content/upl
 oads/2024/02/6720.webp
CATEGORIES:Psychology Educational Class
LOCATION:https://on.zoom.us/h/ilianapantoleon/co_sleeping._healthy_and_unhe
 althy_aspects._0301241130/rHuKSTe_QUOFeGXkk_-30A
END:VEVENT
END:VCALENDAR