BEGIN:VCALENDAR
VERSION:2.0
PRODID:-//wp-events-plugin.com//7.2.3.1//EN
TZID:America/New_York
X-WR-TIMEZONE:America/New_York
BEGIN:VEVENT
UID:49@parentchildpsychology.com
DTSTART:20240322T170000Z
DTEND:20240322T181500Z
DTSTAMP:20240227T064621Z
URL:https://parentchildpsychology.com/events/discipline-between-punishment
 -and-learning/
SUMMARY:Discipline. Between punishment and learning.
DESCRIPTION:In this meeting\, we are going to talk about how parents can he
 lp kids choose for themselves rather than forcing a decision.
ATTACH;FMTTYPE=image/jpeg:https://parentchildpsychology.com/wp-content/upl
 oads/2024/02/10-21-21-disciplining-children.jpg
CATEGORIES:Psychology Educational Class
LOCATION:https://on.zoom.us/h/ilianapantoleon/discipline._between_punishmen
 t_and_learning._0322241700/PXUENZOfSJ6uG93TvGOOsQ
END:VEVENT
END:VCALENDAR