BEGIN:VCALENDAR
VERSION:2.0
PRODID:-//wp-events-plugin.com//7.2.3.1//EN
TZID:America/New_York
X-WR-TIMEZONE:America/New_York
BEGIN:VEVENT
UID:50@parentchildpsychology.com
DTSTART:20240322T183000Z
DTEND:20240322T194500Z
DTSTAMP:20240228T031258Z
URL:https://parentchildpsychology.com/events/disrespect-what-went-wrong/
SUMMARY:Disrespect. What went wrong.
DESCRIPTION:In this meeting\, we are going to talk about how kids can learn
  respect and appreciation.
ATTACH;FMTTYPE=image/jpeg:https://parentchildpsychology.com/wp-content/upl
 oads/2024/02/Disrespect.jpg
CATEGORIES:Psychology Educational Class
LOCATION:https://on.zoom.us/h/ilianapantoleon/disrespect.__0322241830/N40wg
 G7xSkKgLVHmaLUn3Q
END:VEVENT
END:VCALENDAR