BEGIN:VCALENDAR
VERSION:2.0
PRODID:-//wp-events-plugin.com//7.2.3.1//EN
TZID:America/New_York
X-WR-TIMEZONE:America/New_York
BEGIN:VEVENT
UID:42@parentchildpsychology.com
DTSTART:20240223T113000Z
DTEND:20240223T124500Z
DTSTAMP:20240223T021434Z
URL:https://parentchildpsychology.com/events/divorce-how-to-make-it-as-saf
 e-as-possible-for-your-kids/
SUMMARY:Divorce. How to make it as safe as possible for your kids.
DESCRIPTION:In this meeting\, we are going to talk about how to announce a 
 divorce according to your kids' age\, prepare your kids for the upcoming c
 hanges and separate their experience from yours.
ATTACH;FMTTYPE=image/jpeg:https://parentchildpsychology.com/wp-content/upl
 oads/2023/11/Your-Marriage-Will-End-In-Divorce.jpg
LOCATION:https://on.zoom.us/h/ilianapantoleon/divorce._0223241130/mXHJosrfQ
 NKkXKE5TlSpZQ
END:VEVENT
END:VCALENDAR