BEGIN:VCALENDAR
VERSION:2.0
PRODID:-//wp-events-plugin.com//7.2.3.1//EN
TZID:America/New_York
X-WR-TIMEZONE:America/New_York
BEGIN:VEVENT
UID:47@parentchildpsychology.com
DTSTART:20240309T100000Z
DTEND:20240309T111500Z
DTSTAMP:20240305T222652Z
URL:https://parentchildpsychology.com/events/divorce/
SUMMARY:Divorce. Living between two homes.
DESCRIPTION:In this meeting\, we are going to talk about how to help your k
 ids adjust between two homes and continue their life uninterrupted.
ATTACH;FMTTYPE=image/jpeg:https://parentchildpsychology.com/wp-content/upl
 oads/2023/11/Your-Marriage-Will-End-In-Divorce.jpg
CATEGORIES:Psychology Educational Class
LOCATION:https://on.zoom.us/h/ilianapantoleon/adjusting_between_two_homes_i
 n_the_case_of_divorce._0315241700/s923NsNMQe2kqMysOysgAQ
END:VEVENT
END:VCALENDAR