BEGIN:VCALENDAR
VERSION:2.0
PRODID:-//wp-events-plugin.com//7.2.3.1//EN
TZID:America/New_York
X-WR-TIMEZONE:America/New_York
BEGIN:VEVENT
UID:58@parentchildpsychology.com
DTSTART:20240419T183000Z
DTEND:20240419T194500Z
DTSTAMP:20240322T203207Z
URL:https://parentchildpsychology.com/events/excitement-vs-fun/
SUMMARY:Excitement vs Fun.
DESCRIPTION:In this class\, we are going to talk about how you can help you
 r kids enjoy without becoming overwhelmed and what are the right activitie
 s that are helpful in the process of growing up.
ATTACH;FMTTYPE=image/jpeg:https://parentchildpsychology.com/wp-content/upl
 oads/2024/03/overexcitement.jpg
LOCATION:https://on.zoom.us/h/ilianapantoleon/excitement_vs_fun_0419241830/
 ka7-tMaxTfSeUuVmSJSohA
END:VEVENT
END:VCALENDAR