BEGIN:VCALENDAR
VERSION:2.0
PRODID:-//wp-events-plugin.com//7.2.3.1//EN
TZID:America/New_York
X-WR-TIMEZONE:America/New_York
BEGIN:VEVENT
UID:43@parentchildpsychology.com
DTSTART:20240224T123000Z
DTEND:20240224T134500Z
DTSTAMP:20240224T202820Z
URL:https://parentchildpsychology.com/events/ho-to-say-no-a-three-stage-pr
 ocess/
SUMMARY:How to say "No". A three stage process.
DESCRIPTION:In this meeting\, we are going to talk about how to introduce "
 No" in an effective way.
ATTACH;FMTTYPE=image/jpeg:https://parentchildpsychology.com/wp-content/upl
 oads/2023/11/No-1-scaled.jpg
LOCATION:https://on.zoom.us/h/ilianapantoleon/saying_no._a_three_stage_proc
 ess._0224241230/lYULyhLXSbGvf80-XaYcUA
END:VEVENT
END:VCALENDAR