BEGIN:VCALENDAR
VERSION:2.0
PRODID:-//wp-events-plugin.com//7.2.3.1//EN
TZID:America/New_York
X-WR-TIMEZONE:America/New_York
BEGIN:VEVENT
UID:22@parentchildpsychology.com
DTSTART:20240119T143000Z
DTEND:20240119T154500Z
DTSTAMP:20231118T205514Z
URL:https://parentchildpsychology.com/events/how-to-say-no-a-three-stage-p
 rocess/
SUMMARY:How to say "No". A three stage process.
DESCRIPTION:"Whether you tell children not to do something\, or let them go
  all out\, its hard to draw the happy medium. For sure\, you can't have yo
 ur home completely wrecked". -mom\n\nIn this meeting\, we are going to fin
 d the happy medium that keeps everybody safe and satisfied.
ATTACH;FMTTYPE=image/jpeg:https://parentchildpsychology.com/wp-content/upl
 oads/2023/11/1_XPEYVdnht1Comx87nggaNg.jpg
LOCATION:https://on.zoom.us/h/ilianapantoleon/saying_no._a_three_stage_proc
 ess._0119241430/5OHerBBtT16r1ItW9plYUw
END:VEVENT
END:VCALENDAR