BEGIN:VCALENDAR
VERSION:2.0
PRODID:-//wp-events-plugin.com//7.2.3.1//EN
TZID:America/New_York
X-WR-TIMEZONE:America/New_York
BEGIN:VEVENT
UID:32@parentchildpsychology.com
DTSTART:20240217T003000Z
DTEND:20240217T014500Z
DTSTAMP:20240207T002517Z
URL:https://parentchildpsychology.com/events/jealousy-the-capacity-to-love
 -2/
SUMMARY:Jealousy. The capacity to love.
DESCRIPTION:In this meeting\, we are going to explore the healthy and the u
 nhealthy aspects of jealousy and talk about how you can help your kid go t
 hrough this developmental challenge successfully.
ATTACH;FMTTYPE=image/jpeg:https://parentchildpsychology.com/wp-content/upl
 oads/2023/11/347767274-H-1024x700-1.jpg
CATEGORIES:Psychology Educational Class
LOCATION:https://on.zoom.us/h/ilianapantoleon/jealousy._the_capacity_to_lov
 e._0217241230/fsk04h_UTpmYVjW50HJV8Q
END:VEVENT
END:VCALENDAR