BEGIN:VCALENDAR
VERSION:2.0
PRODID:-//wp-events-plugin.com//7.2.3.1//EN
TZID:America/New_York
X-WR-TIMEZONE:America/New_York
BEGIN:VEVENT
UID:24@parentchildpsychology.com
DTSTART:20240112T143000Z
DTEND:20240112T154500Z
DTSTAMP:20231118T205712Z
URL:https://parentchildpsychology.com/events/jealousy-the-capacity-to-love
 /
SUMMARY:Jealousy: The capacity to love!
DESCRIPTION:In this meeting\, we are going to approach jealousy as an achie
 vement in the child's development\, understand the basis of it and describ
 e its healthy and unhealthy aspects.
ATTACH;FMTTYPE=image/jpeg:https://parentchildpsychology.com/wp-content/upl
 oads/2023/11/347767274-H-1024x700-1.jpg
LOCATION:https://on.zoom.us/h/ilianapantoleon/jealousy._the_capacity_to_lov
 e._0112241430/1MlurFl5SaGOoxIC94citw
END:VEVENT
END:VCALENDAR