BEGIN:VCALENDAR
VERSION:2.0
PRODID:-//wp-events-plugin.com//7.2.3.1//EN
TZID:America/New_York
X-WR-TIMEZONE:America/New_York
BEGIN:VEVENT
UID:46@parentchildpsychology.com
DTSTART:20240308T183000Z
DTEND:20240308T194500Z
DTSTAMP:20240227T015223Z
URL:https://parentchildpsychology.com/events/kids-like-daddy-better/
SUMMARY:Kids like daddy better.
DESCRIPTION:In this meeting\, we are going to talk about how to deal with t
 he unpleasant situation when kids have a favorite parent.
ATTACH;FMTTYPE=image/jpeg:https://parentchildpsychology.com/wp-content/upl
 oads/2024/02/kids-like-dad.jpeg
CATEGORIES:Psychology Educational Class
LOCATION:https://on.zoom.us/h/ilianapantoleon/kids_like_daddy_or_mom_better
 ._0308241830/MW6ewBRLQ2iwWlTcoibYdA
END:VEVENT
END:VCALENDAR