BEGIN:VCALENDAR
VERSION:2.0
PRODID:-//wp-events-plugin.com//7.2.3.1//EN
TZID:America/New_York
X-WR-TIMEZONE:America/New_York
BEGIN:VEVENT
UID:65@parentchildpsychology.com
DTSTART:20241005T113000Z
DTEND:20241005T124500Z
DTSTAMP:20240911T225907Z
URL:https://parentchildpsychology.com/events/labeled-kids-reframing-and-re
 storing/
SUMMARY:Labeled kids. Reframing and Restoring!
DESCRIPTION:"He/she is sassy\, shy\, autistic\, not good at math\, irrespon
 sible\, naughty\, has anxiety\, has ADHD...". Children can hear parents\, 
 teachers and clinicians say those things very often and soon they believe 
 that it must be how they are. Labels can destroy our kids' future. Reframi
 ng and separating the behavior from the child can restore their good sense
  of self. Let's talk about how to rewrite their future.
ATTACH;FMTTYPE=image/jpeg:https://parentchildpsychology.com/wp-content/upl
 oads/2024/09/labeled-kids.png
CATEGORIES:Psychology Educational Class
LOCATION:https://on.zoom.us/ev/Akjq-jPsPAaY8FcfhJIshwvqf2l2ZTUDW1lEIwR9kRIT
 J457bCZa~AggLXsr32QYFjq8BlYLZ5I06Dg?lmt=1725982942000
END:VEVENT
END:VCALENDAR