BEGIN:VCALENDAR
VERSION:2.0
PRODID:-//wp-events-plugin.com//7.2.3.1//EN
TZID:America/New_York
X-WR-TIMEZONE:America/New_York
BEGIN:VEVENT
UID:29@parentchildpsychology.com
DTSTART:20240216T113000Z
DTEND:20240216T124500Z
DTSTAMP:20240206T232532Z
URL:https://parentchildpsychology.com/events/moving-into-a-new-house/
SUMMARY:Moving into a new house.
DESCRIPTION:In this class\, we will talk about how we can prepare our kids 
 for a moving\, make them feel secure and enjoy the new start.
ATTACH;FMTTYPE=image/jpeg:https://parentchildpsychology.com/wp-content/upl
 oads/2024/01/images.jpg
CATEGORIES:Psychology Educational Class
LOCATION:https://on.zoom.us/h/ilianapantoleon/moving._when_our_little_peopl
 e_don't_share_the_excitement_of_the_adults._0224241100/xN3wRxgiRemX4JynEWX
 OVg
END:VEVENT
END:VCALENDAR