BEGIN:VCALENDAR
VERSION:2.0
PRODID:-//wp-events-plugin.com//7.2.3.1//EN
TZID:America/New_York
X-WR-TIMEZONE:America/New_York
BEGIN:VEVENT
UID:57@parentchildpsychology.com
DTSTART:20240419T170000Z
DTEND:20240419T181500Z
DTSTAMP:20240321T223246Z
URL:https://parentchildpsychology.com/events/picky-eaters/
SUMMARY:Picky Eaters.
DESCRIPTION:In this class\, I am going to share a few reasons why kids refu
 se to eat and give you the best approach to change this.
ATTACH;FMTTYPE=image/jpeg:https://parentchildpsychology.com/wp-content/upl
 oads/2024/03/picky.jpg
CATEGORIES:Parent Child Psychology
LOCATION:https://on.zoom.us/h/ilianapantoleon/picky_eaters__0419241700/XQh7
 Ix_YT6GDxF9KF4dlHw
END:VEVENT
END:VCALENDAR