BEGIN:VCALENDAR
VERSION:2.0
PRODID:-//wp-events-plugin.com//7.2.3.1//EN
TZID:America/New_York
X-WR-TIMEZONE:America/New_York
BEGIN:VEVENT
UID:45@parentchildpsychology.com
DTSTART:20240308T170000Z
DTEND:20240308T181500Z
DTSTAMP:20240305T222231Z
URL:https://parentchildpsychology.com/events/power-struggles/
SUMMARY:Power struggles.
DESCRIPTION:Its all about teaching your kids how to be the boss of themselv
 es.
ATTACH;FMTTYPE=image/jpeg:https://parentchildpsychology.com/wp-content/upl
 oads/2024/02/Power.jpg
LOCATION:https://on.zoom.us/h/ilianapantoleon/power_struggles.__0308241700/
 cbrtNRlVSWWQuoWzi99ZlA
END:VEVENT
END:VCALENDAR