BEGIN:VCALENDAR
VERSION:2.0
PRODID:-//wp-events-plugin.com//7.2.3.1//EN
TZID:America/New_York
X-WR-TIMEZONE:America/New_York
BEGIN:VEVENT
UID:27@parentchildpsychology.com
DTSTART:20240203T110000Z
DTEND:20240203T121500Z
DTSTAMP:20240117T010815Z
URL:https://parentchildpsychology.com/events/pregnancy-and-the-arrival-of-
 a-sibling-what-to-expect-when-you-are-expecting-from-a-psychological-persp
 ective/
SUMMARY:Pregnancy and the arrival of a sibling. What to expect when you are
  expecting from a psychological perspective.
DESCRIPTION:Together we will discuss how to prepare your older child for th
 e arrival of a sibling\, the new role of being an older brother or sister 
 and the new reality of a mother that needs to be shared.
ATTACH;FMTTYPE=image/jpeg:https://parentchildpsychology.com/wp-content/upl
 oads/2024/01/download.jpg
LOCATION:https://on.zoom.us/h/ilianapantoleon/pregnancy_and_the_arriving_of
 _a_sibling._how_to_prepare_your_child._0203241100/kWnEKPLxSgaAY5ncmwkQIw
END:VEVENT
END:VCALENDAR