BEGIN:VCALENDAR
VERSION:2.0
PRODID:-//wp-events-plugin.com//7.2.3.1//EN
TZID:America/New_York
X-WR-TIMEZONE:America/New_York
BEGIN:VEVENT
UID:30@parentchildpsychology.com
DTSTART:20240216T143000Z
DTEND:20240216T154500Z
DTSTAMP:20240207T022844Z
URL:https://parentchildpsychology.com/events/pregnancy-and-the-arrival-of-
 a-sibling/
SUMMARY:Pregnancy and the arrival of a sibling.
DESCRIPTION:In this meeting\, we are going to talk about how to prepare you
 r child for the new role of being a sibling and the new reality of sharing
  a mother.
ATTACH;FMTTYPE=image/jpeg:https://parentchildpsychology.com/wp-content/upl
 oads/2024/01/download.jpg
CATEGORIES:Psychology Educational Class
LOCATION:https://on.zoom.us/h/ilianapantoleon/pregnancy_and_the_arrival_of_
 a_sibling._how_to_prepare_your_child._0216241430/EEep_bEpRw-dHAsLuhS37g
END:VEVENT
END:VCALENDAR