BEGIN:VCALENDAR
VERSION:2.0
PRODID:-//wp-events-plugin.com//7.2.3.1//EN
TZID:America/New_York
X-WR-TIMEZONE:America/New_York
BEGIN:VEVENT
UID:41@parentchildpsychology.com
DTSTART:20240222T150000Z
DTEND:20240222T160000Z
DTSTAMP:20240223T004935Z
URL:https://parentchildpsychology.com/events/psychology/
SUMMARY:Psychology
DESCRIPTION:Psychology
LOCATION:https://on.zoom.us/h/ilianapantoleon/psychology_0222241500/kK8RBU-
 SRhOUWEz8sLjlRA
END:VEVENT
END:VCALENDAR