BEGIN:VCALENDAR
VERSION:2.0
PRODID:-//wp-events-plugin.com//7.2.3.1//EN
TZID:America/New_York
X-WR-TIMEZONE:America/New_York
BEGIN:VEVENT
UID:33@parentchildpsychology.com
DTSTART:20240224T003000Z
DTEND:20240224T014500Z
DTSTAMP:20240207T015735Z
URL:https://parentchildpsychology.com/events/saying-no-a-three-stage-proce
 ss/
SUMMARY:Saying "No". A three stage process.
DESCRIPTION:"Whether you tell children not to do something\, or let them go
  all out\, its hard to draw the happy medium. For sure\, you can’t have 
 your home completely wrecked” -mom. In this meeting\, we are going to fi
 nd the happy medium that keeps everybody safe and satisfied.
LOCATION:https://on.zoom.us/h/ilianapantoleon/saying_no._a_three_stage_proc
 ess._0206241430/gJrMtDvhT9W0ni4TA_rjeQ
END:VEVENT
END:VCALENDAR