BEGIN:VCALENDAR
VERSION:2.0
PRODID:-//wp-events-plugin.com//7.2.3.1//EN
TZID:America/New_York
X-WR-TIMEZONE:America/New_York
BEGIN:VEVENT
UID:62@parentchildpsychology.com
DTSTART:20240907T113000Z
DTEND:20240907T124500Z
DTSTAMP:20240729T134616Z
URL:https://parentchildpsychology.com/events/starting-preschool-and-childc
 are-2/
SUMMARY:Starting preschool and childcare.
DESCRIPTION:In this meeting\, we are going to discuss about how you can hel
 p your kids adjust to an environment away from home and what you can do to
  help them manage missing feelings.
ATTACH;FMTTYPE=image/jpeg:https://parentchildpsychology.com/wp-content/upl
 oads/2023/11/Young_children_in_classroom_highwaystarz_Fotolia.jpg
LOCATION:https://on.zoom.us/h/ilianapantoleon/starting_preschool_and_child_
 care._0907241130/bxwOwz2mTSOG04HxXsvoaw
END:VEVENT
END:VCALENDAR