BEGIN:VCALENDAR
VERSION:2.0
PRODID:-//wp-events-plugin.com//7.2.3.1//EN
TZID:America/New_York
X-WR-TIMEZONE:America/New_York
BEGIN:VEVENT
UID:56@parentchildpsychology.com
DTSTART:20240412T183000Z
DTEND:20240412T194500Z
DTSTAMP:20240319T013104Z
URL:https://parentchildpsychology.com/events/stealing-telling-lies-a-diffe
 rent-perspective/
SUMMARY:Stealing & Telling Lies. A different perspective.
DESCRIPTION:In this meeting\, we are going to talk about what kids are real
 ly looking for when they are engaging in such behaviors.
ATTACH;FMTTYPE=image/jpeg:https://parentchildpsychology.com/wp-content/upl
 oads/2024/03/stealing.jpg
CATEGORIES:Parent Child Psychology
LOCATION:https://on.zoom.us/h/ilianapantoleon/stealing_&_telling_lies._0412
 241830/RrfCYTiqRFamZE2lMc_GGg
END:VEVENT
END:VCALENDAR