BEGIN:VCALENDAR
VERSION:2.0
PRODID:-//wp-events-plugin.com//7.2.3.1//EN
TZID:America/New_York
X-WR-TIMEZONE:America/New_York
BEGIN:VEVENT
UID:60@parentchildpsychology.com
DTSTART:20240426T170000Z
DTEND:20240426T181500Z
DTSTAMP:20240322T221328Z
URL:https://parentchildpsychology.com/events/stop-entertaining-let-them-be
 ing-bored/
SUMMARY:Stop Entertaining! Let them being bored!
DESCRIPTION:Do you feel you need to pack your kids' days with fun activitie
 s and constant fun? You can now take a break. There are good reasons why!
ATTACH;FMTTYPE=image/jpeg:https://parentchildpsychology.com/wp-content/upl
 oads/2024/03/bored.jpg
CATEGORIES:Psychology Educational Class
LOCATION:https://on.zoom.us/h/ilianapantoleon/stop_entertaining_and_let_the
 m_be_bored._0426241700/EmFUQtXcR820ibHfkM8Mwg
END:VEVENT
END:VCALENDAR