BEGIN:VCALENDAR
VERSION:2.0
PRODID:-//wp-events-plugin.com//7.2.3.1//EN
TZID:America/New_York
X-WR-TIMEZONE:America/New_York
BEGIN:VEVENT
UID:19@parentchildpsychology.com
DTSTART:20240112T113000Z
DTEND:20240112T124500Z
DTSTAMP:20240108T214304Z
URL:https://parentchildpsychology.com/events/tantrums-an-inevitable-stage-
 of-your-childs-emotional-development/
SUMMARY:Tantrums. An inevitable stage of your child's emotional development
 .
DESCRIPTION:Tantrums are a part of all  kids' normal development that pare
 nts would like to go though as quickly as possible. In this meeting\, we c
 an talk about why tantrums occur\, what are the underlying strong feelings
  and what you can do to help your child overcome this stage quickly.
ATTACH;FMTTYPE=image/jpeg:https://parentchildpsychology.com/wp-content/upl
 oads/2023/11/Foap-Little_Miss_Temper-2e0af0dd61c04f2da9d743480ea8ee17.jpg
LOCATION:https://on.zoom.us/h/ilianapantoleon/tantrums._an_inevitable_part_
 of_your_child's_development._0112241130/p3wG2IucSvu7fMOHCaPPEA
END:VEVENT
END:VCALENDAR