BEGIN:VCALENDAR
VERSION:2.0
PRODID:-//wp-events-plugin.com//7.2.3.1//EN
TZID:America/New_York
X-WR-TIMEZONE:America/New_York
BEGIN:VEVENT
UID:40@parentchildpsychology.com
DTSTART:20240222T150000Z
DTEND:20240222T163000Z
DTSTAMP:20240223T004210Z
URL:https://parentchildpsychology.com/events/test-2/
SUMMARY:test
DESCRIPTION:test
LOCATION:https://on.zoom.us/h/ilianapantoleon/test_0222241500/KulHDRdcRyOJ_
 xXFL8xJoQ
END:VEVENT
END:VCALENDAR