BEGIN:VCALENDAR
VERSION:2.0
PRODID:-//wp-events-plugin.com//7.2.3.1//EN
TZID:America/New_York
X-WR-TIMEZONE:America/New_York
BEGIN:VEVENT
UID:52@parentchildpsychology.com
DTSTART:20240329T183000Z
DTEND:20240329T194500Z
DTSTAMP:20240228T035643Z
URL:https://parentchildpsychology.com/events/the-invasion-of-tecgnology/
SUMMARY:The invasion of tecgnology.
DESCRIPTION:In this meeting\, we are going to talk about how to introduce a
 nd control screens in your kids life.
ATTACH;FMTTYPE=image/jpeg:https://parentchildpsychology.com/wp-content/upl
 oads/2024/02/techonoly.jpg
CATEGORIES:Psychology Educational Class
LOCATION:https://on.zoom.us/h/ilianapantoleon/the_invasion_of_technology.__
 0329241830/8nEhm_UdT-WsvDB2m1yDLA
END:VEVENT
END:VCALENDAR