BEGIN:VCALENDAR
VERSION:2.0
PRODID:-//wp-events-plugin.com//7.2.3.1//EN
TZID:America/New_York
X-WR-TIMEZONE:America/New_York
BEGIN:VEVENT
UID:53@parentchildpsychology.com
DTSTART:20240405T170000Z
DTEND:20240405T181500Z
DTSTAMP:20240313T021904Z
URL:https://parentchildpsychology.com/events/the-only-child/
SUMMARY:The only child.
DESCRIPTION:When does it really matter whether a child in the only child in
  the family and how to enrich their experience?
ATTACH;FMTTYPE=image/jpeg:https://parentchildpsychology.com/wp-content/upl
 oads/2024/03/one-child.jpg
CATEGORIES:Psychology Educational Class
LOCATION:https://on.zoom.us/h/ilianapantoleon/the_only_child._0405241700/ql
 W819DZSxKBCJGMeJEhWg
END:VEVENT
END:VCALENDAR