BEGIN:VCALENDAR
VERSION:2.0
PRODID:-//wp-events-plugin.com//7.2.3.1//EN
TZID:America/New_York
X-WR-TIMEZONE:America/New_York
BEGIN:VEVENT
UID:61@parentchildpsychology.com
DTSTART:20240426T183000Z
DTEND:20240426T194500Z
DTSTAMP:20240322T215318Z
URL:https://parentchildpsychology.com/events/the-too-nice-child-when-compl
 iance-raises-a-red-flag/
SUMMARY:The Too-Nice Child. When compliance raises a red flag!
DESCRIPTION:In this class\, we are going to talk about why compliance can b
 e worrying and what are the right messages we may have missed to give to t
 hese kids.
ATTACH;FMTTYPE=image/jpeg:https://parentchildpsychology.com/wp-content/upl
 oads/2024/03/Well-behaved-child.jpg
LOCATION:https://on.zoom.us/h/ilianapantoleon/the_too_nice_child._when_comp
 liance_raises_a_red_flag._0426241830/AFkb9CpRTNOZS9V55rGiCQ
END:VEVENT
END:VCALENDAR