BEGIN:VCALENDAR
VERSION:2.0
PRODID:-//wp-events-plugin.com//7.2.3.1//EN
TZID:America/New_York
X-WR-TIMEZONE:America/New_York
BEGIN:VEVENT
UID:25@parentchildpsychology.com
DTSTART:20240126T113000Z
DTEND:20240126T124500Z
DTSTAMP:20240108T214409Z
URL:https://parentchildpsychology.com/events/toilet-mastery-a-big-accompli
 shment-towards-independency/
SUMMARY:Toilet Mastery. A big accomplishment towards independency.
DESCRIPTION:In this meeting\, we are going to learn how to pick up on signa
 ls that your child is ready to take charge of his body and also discover w
 hat can go wrong if you rush or postpone it.
ATTACH;FMTTYPE=image/jpeg:https://parentchildpsychology.com/wp-content/upl
 oads/2023/11/pottytraining-web.jpg
LOCATION:https://on.zoom.us/h/ilianapantoleon/toilet_mastery._0126241130/uO
 UHvoduT9GzDUD-TEyUBw
END:VEVENT
END:VCALENDAR