BEGIN:VCALENDAR
VERSION:2.0
PRODID:-//wp-events-plugin.com//7.2.3.1//EN
TZID:America/New_York
X-WR-TIMEZONE:America/New_York
BEGIN:VEVENT
UID:55@parentchildpsychology.com
DTSTART:20240405T183000Z
DTEND:20240405T194500Z
DTSTAMP:20240319T011552Z
URL:https://parentchildpsychology.com/events/twins-advantages-disadvantage
 s/
SUMMARY:Twins. Advantages & Disadvantages.
DESCRIPTION:In this class\, I am going to give you a few hints about what t
 he main difficulty could be for identical and fraternal twins.
ATTACH;FMTTYPE=image/jpeg:https://parentchildpsychology.com/wp-content/upl
 oads/2024/03/twins.jpg
CATEGORIES:Parent Child Psychology
LOCATION:https://on.zoom.us/h/ilianapantoleon/advantages_and_disadvantages_
 of_being_a_twin._0405241830/L8q7dBFkTZi0z3y9n3OmFA
END:VEVENT
END:VCALENDAR