BEGIN:VCALENDAR
VERSION:2.0
PRODID:-//wp-events-plugin.com//7.2.3.1//EN
TZID:America/New_York
X-WR-TIMEZONE:America/New_York
BEGIN:VEVENT
UID:35@parentchildpsychology.com
DTSTART:20250913T160000Z
DTEND:20250913T171500Z
DTSTAMP:20250816T115216Z
URL:https://parentchildpsychology.com/events/understanding-separation-anxi
 ety-and-the-separation-process-2/
SUMMARY:Understanding Separation Anxiety and the Separation Process.
DESCRIPTION:Helping Your Child Feel Safe When You're Apart.\nHow you handle
  separations is one of the most important tasks of parenting. You are your
  child’s anchor—the most important person in their world. So when your
  child cries\, clings\, or melts down at goodbyes\, it's not a sign that s
 omething is wrong. It’s a sign of how deeply connected they are to you. 
 And that’s completely normal.\nBut even though separation is hard\, it d
 oesn’t have to be traumatic. In this class\, we’ll walk you through ho
 w to make separations feel safe\, manageable\, and even empowering—for b
 oth you and your child.\n\nThis class is for you if:\n\n 	\nYou have a sob
 ber or a clinger who struggles when you leave.\n\n 	\nDrop-offs\, daycare\
 , or even a quick goodbye feel like emotional rollercoasters.\n\n 	\nYou w
 ant to feel more confident in how you support your child during these mome
 nts.\n\n\nWhat You’ll Learn:\n\n 	\nWhy Goodbyes Are HardUnderstand what
 ’s going on in your child’s brain and body during separations\, and wh
 y these moments can feel so intense.\n\n 	\nSeparation Is a ProcessLearn h
 ow separation isn’t a single moment\, but a developmental process tied t
 o ego maturity—and what that means for different ages and stages.\n\n 	\
 nHow to Do ItPractical tips\, scripts\, and tools to help you:\n\n\n 	\nPr
 epare your child ahead of time\n\n 	\nSay goodbye with confidence and warm
 th\n\n 	\nSupport your child’s emotional growth through everyday separat
 ions\n\n\n\n\nWhen handled with care\, separations become stepping stones 
 for your child to build confidence\, independence\, and the ability to for
 m fulfilling\, trustworthy relationships with others.
ATTACH;FMTTYPE=image/jpeg:https://parentchildpsychology.com/wp-content/upl
 oads/2023/11/69.jpg
CATEGORIES:Psychology Educational Class
LOCATION:https://on.zoom.us/h/ilianapantoleon/understanding_separation_anxi
 ety_and_the_separation_process_0913251200/LM46MgWWTJyglGG5HatJ3Q
END:VEVENT
END:VCALENDAR