BEGIN:VCALENDAR
VERSION:2.0
PRODID:-//wp-events-plugin.com//7.2.3.1//EN
TZID:America/New_York
X-WR-TIMEZONE:America/New_York
BEGIN:VEVENT
UID:51@parentchildpsychology.com
DTSTART:20240329T170000Z
DTEND:20240329T181500Z
DTSTAMP:20240228T033525Z
URL:https://parentchildpsychology.com/events/when-teachers-call-you-at-sch
 ool/
SUMMARY:When teachers call you at school.
DESCRIPTION:In this meeting\, we are going to talk about how to turn advers
 arial feelings into cheerful smiles.
ATTACH;FMTTYPE=image/jpeg:https://parentchildpsychology.com/wp-content/upl
 oads/2024/02/teachers.jpg
CATEGORIES:Psychology Educational Class
LOCATION:https://on.zoom.us/h/ilianapantoleon/when_teachers_call_you_at_sch
 ool._0329241700/5VISOx6_RJ2-HiTBUnQzOA
END:VEVENT
END:VCALENDAR