BEGIN:VCALENDAR
VERSION:2.0
PRODID:-//wp-events-plugin.com//7.2.3.1//EN
TZID:America/New_York
X-WR-TIMEZONE:America/New_York
BEGIN:VEVENT
UID:31@parentchildpsychology.com
DTSTART:20240210T003000Z
DTEND:20240210T014500Z
DTSTAMP:20240207T001909Z
URL:https://parentchildpsychology.com/events/whining-and-complaining-when-
 kids-need-you-the-most/
SUMMARY:Whining and Complaining. When kids need you the most.
DESCRIPTION:In this meeting\, we are going to explore and put into words ev
 erything that kids are trying to convey when they are whining and complain
 ing.
ATTACH;FMTTYPE=image/jpeg:https://parentchildpsychology.com/wp-content/upl
 oads/2023/11/whining.png
LOCATION:https://on.zoom.us/h/ilianapantoleon/whining_and_complaining._when
 _kids_need_you_the_most.__0210241230/aYrtDBPJSmKpNpVVVRzIsQ
END:VEVENT
END:VCALENDAR