BEGIN:VCALENDAR
VERSION:2.0
PRODID:-//wp-events-plugin.com//7.2.3.1//EN
TZID:America/New_York
X-WR-TIMEZONE:America/New_York
BEGIN:VEVENT
UID:23@parentchildpsychology.com
DTSTART:20240105T143000Z
DTEND:20240105T154500Z
DTSTAMP:20231118T214340Z
URL:https://parentchildpsychology.com/events/whining-and-complaining-when-
 your-child-needs-you-the-most/
SUMMARY:Whining and Complaining. When your child needs you the most.
DESCRIPTION:In this meeting\, I will help you understand the reasons of thi
 s behavior and your child's underlying needs that seek to be met.
ATTACH;FMTTYPE=image/jpeg:https://parentchildpsychology.com/wp-content/upl
 oads/2023/11/whining.png
LOCATION:https://on.zoom.us/h/ilianapantoleon/whining_and_complaining._when
 _kids_need_you_the_most.__0105241430/nc4VIomQRQmr_hkcNCaBmg
END:VEVENT
END:VCALENDAR