BEGIN:VCALENDAR
VERSION:2.0
PRODID:-//wp-events-plugin.com//7.2.3.1//EN
TZID:America/New_York
X-WR-TIMEZONE:America/New_York
BEGIN:VEVENT
UID:59@parentchildpsychology.com
DTSTART:20240412T170000Z
DTEND:20240412T181500Z
DTSTAMP:20240322T204851Z
URL:https://parentchildpsychology.com/events/why-children-need-to-play/
SUMMARY:Why children need to play!
DESCRIPTION:In this class\, we are going to talk about the importance of pr
 etending\, unstructured\, unsupervised play and the benefits in developmen
 t.
ATTACH;FMTTYPE=image/jpeg:https://parentchildpsychology.com/wp-content/upl
 oads/2024/03/imaginative-play1140x520.jpg
CATEGORIES:Parent Child Psychology
LOCATION:https://on.zoom.us/h/ilianapantoleon/why_children_need_to_play._04
 12241700/i5hREuF-TN2CMMkpuc-0AA
END:VEVENT
END:VCALENDAR