BEGIN:VCALENDAR
VERSION:2.0
PRODID:-//wp-events-plugin.com//7.2.3.1//EN
TZID:America/New_York
X-WR-TIMEZONE:America/New_York
BEGIN:VEVENT
UID:17@parentchildpsychology.com
DTSTART:20240105T113000Z
DTEND:20240105T124500Z
DTSTAMP:20231118T205552Z
URL:https://parentchildpsychology.com/events/why-kids-dont-listen/
SUMMARY:Why kids don't listen.
DESCRIPTION:"Finish eating\, brush your teeth\, put your pajamas on and get
  ready to sleep". Simple right? Apparently\, not. In this meeting\, we are
  going to explore a few reasons why it is so hard for kids to listen and d
 o as told.
ATTACH;FMTTYPE=image/jpeg:https://parentchildpsychology.com/wp-content/upl
 oads/2023/11/09-16-19-kids-not-listening.jpg
LOCATION:https://on.zoom.us/h/ilianapantoleon/why_kids_don't_listen._010524
 1130/pkKNM7adTSar83nFpp2LpA
END:VEVENT
END:VCALENDAR